BEGIN:VCALENDAR
PRODID:http://wibix.de/infusions/pro_download_panel/download.php?did=27
VERSION:2.0
METHOD:PUBLISH
BEGIN:VEVENT
DTSTART:20140315T000000Z
UID:43@http://www.southjerseyhookthis.com/
DTSTAMP:20140124T221452Z
DESCRIPTION:janeens birthday
SUMMARY:janeens birthday
CLASS:PUBLIC
RRULE:FREQ=YEARLY;INTERVAL=1
END:VEVENT
END:VCALENDAR
